BEGIN:VCALENDAR
VERSION:2.0
PRODID:-//Keewatin Public School Parent Council - ECPv6.2.6//NONSGML v1.0//EN
CALSCALE:GREGORIAN
METHOD:PUBLISH
X-WR-CALNAME:Keewatin Public School Parent Council
X-ORIGINAL-URL:https://www.kpscouncil.com
X-WR-CALDESC:Events for Keewatin Public School Parent Council
REFRESH-INTERVAL;VALUE=DURATION:PT1H
X-Robots-Tag:noindex
X-PUBLISHED-TTL:PT1H
BEGIN:VTIMEZONE
TZID:America/Winnipeg
BEGIN:DAYLIGHT
TZOFFSETFROM:-0600
TZOFFSETTO:-0500
TZNAME:CDT
DTSTART:20200308T080000
END:DAYLIGHT
BEGIN:STANDARD
TZOFFSETFROM:-0500
TZOFFSETTO:-0600
TZNAME:CST
DTSTART:20201101T070000
END:STANDARD
END:VTIMEZONE
BEGIN:VEVENT
DTSTART;VALUE=DATE:20200120
DTEND;VALUE=DATE:20200121
DTSTAMP:20260425T175002
CREATED:20200109T151830Z
LAST-MODIFIED:20200109T151830Z
UID:539-1579478400-1579564799@www.kpscouncil.com
SUMMARY:Pizza Day
DESCRIPTION:
URL:https://www.kpscouncil.com/event/pizza-day-7/
CATEGORIES:School Menu
END:VEVENT
END:VCALENDAR