BEGIN:VCALENDAR
VERSION:2.0
PRODID:-//Keewatin Public School Parent Council - ECPv6.2.6//NONSGML v1.0//EN
CALSCALE:GREGORIAN
METHOD:PUBLISH
X-WR-CALNAME:Keewatin Public School Parent Council
X-ORIGINAL-URL:https://www.kpscouncil.com
X-WR-CALDESC:Events for Keewatin Public School Parent Council
REFRESH-INTERVAL;VALUE=DURATION:PT1H
X-Robots-Tag:noindex
X-PUBLISHED-TTL:PT1H
BEGIN:VTIMEZONE
TZID:America/Winnipeg
BEGIN:DAYLIGHT
TZOFFSETFROM:-0600
TZOFFSETTO:-0500
TZNAME:CDT
DTSTART:20190310T080000
END:DAYLIGHT
BEGIN:STANDARD
TZOFFSETFROM:-0500
TZOFFSETTO:-0600
TZNAME:CST
DTSTART:20191103T070000
END:STANDARD
BEGIN:DAYLIGHT
TZOFFSETFROM:-0600
TZOFFSETTO:-0500
TZNAME:CDT
DTSTART:20200308T080000
END:DAYLIGHT
BEGIN:STANDARD
TZOFFSETFROM:-0500
TZOFFSETTO:-0600
TZNAME:CST
DTSTART:20201101T070000
END:STANDARD
END:VTIMEZONE
BEGIN:VEVENT
DTSTART;TZID=America/Winnipeg:20200109T153000
DTEND;TZID=America/Winnipeg:20200109T173000
DTSTAMP:20260421T120836
CREATED:20200109T150336Z
LAST-MODIFIED:20200109T150336Z
UID:520-1578583800-1578591000@www.kpscouncil.com
SUMMARY:Cub Scouts\, 3:30PM
DESCRIPTION:
URL:https://www.kpscouncil.com/event/cub-scouts-330pm/
CATEGORIES:Programming
END:VEVENT
BEGIN:VEVENT
DTSTART;TZID=America/Winnipeg:20200108T090000
DTEND;TZID=America/Winnipeg:20200108T103000
DTSTAMP:20260421T120836
CREATED:20200109T152639Z
LAST-MODIFIED:20200109T152639Z
UID:557-1578474000-1578479400@www.kpscouncil.com
SUMMARY:Learn to Skate 9:00AM
DESCRIPTION:On ice\, 9:30 – 10:20 a.m.
URL:https://www.kpscouncil.com/event/learn-to-skate-900am/
CATEGORIES:Programming
END:VEVENT
BEGIN:VEVENT
DTSTART;VALUE=DATE:20200108
DTEND;VALUE=DATE:20200109
DTSTAMP:20260421T120836
CREATED:20200109T152135Z
LAST-MODIFIED:20200109T152135Z
UID:547-1578441600-1578527999@www.kpscouncil.com
SUMMARY:Tomato Soup & Goldfish
DESCRIPTION:
URL:https://www.kpscouncil.com/event/tomato-soup-goldfish-3/
CATEGORIES:School Menu
END:VEVENT
BEGIN:VEVENT
DTSTART;TZID=America/Winnipeg:20200107T134500
DTEND;TZID=America/Winnipeg:20200107T153000
DTSTAMP:20260421T120836
CREATED:20200109T152045Z
LAST-MODIFIED:20200109T152045Z
UID:545-1578404700-1578411000@www.kpscouncil.com
SUMMARY:JHA 1:45PM
DESCRIPTION:Junior Hockey Academy
URL:https://www.kpscouncil.com/event/jha-145pm-3/
CATEGORIES:Programming
END:VEVENT
BEGIN:VEVENT
DTSTART;TZID=America/Winnipeg:20200106T080000
DTEND;TZID=America/Winnipeg:20200106T170000
DTSTAMP:20260421T120836
CREATED:20191217T180644Z
LAST-MODIFIED:20191217T180644Z
UID:496-1578297600-1578330000@www.kpscouncil.com
SUMMARY:(5)
DESCRIPTION:
URL:https://www.kpscouncil.com/event/5-2/
CATEGORIES:School Day
END:VEVENT
BEGIN:VEVENT
DTSTART;VALUE=DATE:20191223
DTEND;VALUE=DATE:20200104
DTSTAMP:20260421T120836
CREATED:20190927T142859Z
LAST-MODIFIED:20190927T142859Z
UID:279-1577059200-1578095999@www.kpscouncil.com
SUMMARY:Happy Holidays! (School Closed)
DESCRIPTION:
URL:https://www.kpscouncil.com/event/happy-holidays-school-closed/
CATEGORIES:No Classes
END:VEVENT
BEGIN:VEVENT
DTSTART;TZID=America/Winnipeg:20191212T120000
DTEND;TZID=America/Winnipeg:20191212T130000
DTSTAMP:20260421T120836
CREATED:20190927T143822Z
LAST-MODIFIED:20191023T134038Z
UID:296-1576152000-1576155600@www.kpscouncil.com
SUMMARY:TURKEY FEAST - 12:00PM
DESCRIPTION:
URL:https://www.kpscouncil.com/event/turkey-feast/
CATEGORIES:Events
END:VEVENT
BEGIN:VEVENT
DTSTART;TZID=America/Winnipeg:20191202T080000
DTEND;TZID=America/Winnipeg:20191202T170000
DTSTAMP:20260421T120836
CREATED:20191217T180507Z
LAST-MODIFIED:20191217T180507Z
UID:494-1575273600-1575306000@www.kpscouncil.com
SUMMARY:(5)
DESCRIPTION:
URL:https://www.kpscouncil.com/event/5/
CATEGORIES:School Day
END:VEVENT
BEGIN:VEVENT
DTSTART;VALUE=DATE:20191129
DTEND;VALUE=DATE:20191130
DTSTAMP:20260421T120836
CREATED:20191106T152422Z
LAST-MODIFIED:20191106T152422Z
UID:486-1574985600-1575071999@www.kpscouncil.com
SUMMARY:Subway
DESCRIPTION:
URL:https://www.kpscouncil.com/event/subway-3/
CATEGORIES:School Menu
END:VEVENT
BEGIN:VEVENT
DTSTART;VALUE=DATE:20191129
DTEND;VALUE=DATE:20191130
DTSTAMP:20260421T120836
CREATED:20191106T152402Z
LAST-MODIFIED:20191106T152402Z
UID:484-1574985600-1575071999@www.kpscouncil.com
SUMMARY:Bubblegum Day $2
DESCRIPTION:
URL:https://www.kpscouncil.com/event/bubblegum-day-2/
CATEGORIES:Events
END:VEVENT
BEGIN:VEVENT
DTSTART;TZID=America/Winnipeg:20191128T153000
DTEND;TZID=America/Winnipeg:20191128T170000
DTSTAMP:20260421T120836
CREATED:20191106T152315Z
LAST-MODIFIED:20191106T152315Z
UID:482-1574955000-1574960400@www.kpscouncil.com
SUMMARY:Cub Scouts 3:30-5:00PM
DESCRIPTION:
URL:https://www.kpscouncil.com/event/cub-scouts-330-500pm-3/
CATEGORIES:Programming
END:VEVENT
BEGIN:VEVENT
DTSTART;VALUE=DATE:20191127
DTEND;VALUE=DATE:20191128
DTSTAMP:20260421T120836
CREATED:20191106T152237Z
LAST-MODIFIED:20191106T152237Z
UID:480-1574812800-1574899199@www.kpscouncil.com
SUMMARY:Meatballs & Gravy
DESCRIPTION:
URL:https://www.kpscouncil.com/event/meatballs-gravy/
CATEGORIES:School Menu
END:VEVENT
BEGIN:VEVENT
DTSTART;TZID=America/Winnipeg:20191126T183000
DTEND;TZID=America/Winnipeg:20191126T200000
DTSTAMP:20260421T120836
CREATED:20190927T145531Z
LAST-MODIFIED:20191023T133907Z
UID:306-1574793000-1574798400@www.kpscouncil.com
SUMMARY:Parent Council Meeting - 6:30PM
DESCRIPTION:
URL:https://www.kpscouncil.com/event/parent-council-meeting-630pm-2/
CATEGORIES:Meetings
END:VEVENT
BEGIN:VEVENT
DTSTART;TZID=America/Winnipeg:20191126T140000
DTEND;TZID=America/Winnipeg:20191126T150000
DTSTAMP:20260421T120836
CREATED:20191106T152202Z
LAST-MODIFIED:20191106T152202Z
UID:478-1574776800-1574780400@www.kpscouncil.com
SUMMARY:Junior Hockey Academy 2:00PM
DESCRIPTION:
URL:https://www.kpscouncil.com/event/junior-hockey-academy-200pm-3/
CATEGORIES:Programming
END:VEVENT
BEGIN:VEVENT
DTSTART;TZID=America/Winnipeg:20191125T180000
DTEND;TZID=America/Winnipeg:20191125T190000
DTSTAMP:20260421T120836
CREATED:20191106T152124Z
LAST-MODIFIED:20191106T152124Z
UID:476-1574704800-1574708400@www.kpscouncil.com
SUMMARY:Beavers 6:00-7:00PM
DESCRIPTION:
URL:https://www.kpscouncil.com/event/beavers-600-700pm/
CATEGORIES:Programming
END:VEVENT
BEGIN:VEVENT
DTSTART;VALUE=DATE:20191125
DTEND;VALUE=DATE:20191126
DTSTAMP:20260421T120836
CREATED:20191106T152052Z
LAST-MODIFIED:20191106T152052Z
UID:474-1574640000-1574726399@www.kpscouncil.com
SUMMARY:Pizza Day
DESCRIPTION:
URL:https://www.kpscouncil.com/event/pizza-day-5/
CATEGORIES:School Menu
END:VEVENT
BEGIN:VEVENT
DTSTART;VALUE=DATE:20191122
DTEND;VALUE=DATE:20191123
DTSTAMP:20260421T120836
CREATED:20190927T141944Z
LAST-MODIFIED:20190927T141944Z
UID:268-1574380800-1574467199@www.kpscouncil.com
SUMMARY:NO CLASSES - P.D. Day
DESCRIPTION:
URL:https://www.kpscouncil.com/event/no-classes-p-d-day-3/
CATEGORIES:No Classes
END:VEVENT
BEGIN:VEVENT
DTSTART;TZID=America/Winnipeg:20191121T150000
DTEND;TZID=America/Winnipeg:20191121T170000
DTSTAMP:20260421T120836
CREATED:20191106T152025Z
LAST-MODIFIED:20191106T152025Z
UID:472-1574348400-1574355600@www.kpscouncil.com
SUMMARY:Cub Scouts 3:00-5:00PM
DESCRIPTION:
URL:https://www.kpscouncil.com/event/cub-scouts-300-500pm/
CATEGORIES:Programming
END:VEVENT
BEGIN:VEVENT
DTSTART;TZID=America/Winnipeg:20191120T170000
DTEND;TZID=America/Winnipeg:20191120T190000
DTSTAMP:20260421T120836
CREATED:20190927T143738Z
LAST-MODIFIED:20191106T151210Z
UID:294-1574269200-1574276400@www.kpscouncil.com
SUMMARY:Spaghetti Dinner - Everyone Welcome! 5:00-7:00PM
DESCRIPTION:
URL:https://www.kpscouncil.com/event/spaghetti-dinner/
CATEGORIES:Events
END:VEVENT
BEGIN:VEVENT
DTSTART;TZID=America/Winnipeg:20191120T153000
DTEND;TZID=America/Winnipeg:20191120T180000
DTSTAMP:20260421T120836
CREATED:20191106T151038Z
LAST-MODIFIED:20191106T151038Z
UID:469-1574263800-1574272800@www.kpscouncil.com
SUMMARY:Parent-Teacher Interviews 3:30-6:00PM
DESCRIPTION:
URL:https://www.kpscouncil.com/event/parent-teacher-interviews-330-600pm/
CATEGORIES:Notification
END:VEVENT
BEGIN:VEVENT
DTSTART;VALUE=DATE:20191120
DTEND;VALUE=DATE:20191121
DTSTAMP:20260421T120836
CREATED:20191106T150935Z
LAST-MODIFIED:20191106T150935Z
UID:467-1574208000-1574294399@www.kpscouncil.com
SUMMARY:Tomato Soup & Goldfish
DESCRIPTION:
URL:https://www.kpscouncil.com/event/tomato-soup-goldfish-2/
CATEGORIES:School Menu
END:VEVENT
BEGIN:VEVENT
DTSTART;TZID=America/Winnipeg:20191119T140000
DTEND;TZID=America/Winnipeg:20191119T150000
DTSTAMP:20260421T120836
CREATED:20191106T150826Z
LAST-MODIFIED:20191106T150826Z
UID:463-1574172000-1574175600@www.kpscouncil.com
SUMMARY:Junior Hockey Academy 2:00PM
DESCRIPTION:
URL:https://www.kpscouncil.com/event/junior-hockey-academy-200pm-2/
CATEGORIES:Programming
END:VEVENT
BEGIN:VEVENT
DTSTART;VALUE=DATE:20191119
DTEND;VALUE=DATE:20191120
DTSTAMP:20260421T120836
CREATED:20191106T150901Z
LAST-MODIFIED:20191106T150901Z
UID:465-1574121600-1574207999@www.kpscouncil.com
SUMMARY:Junior Volleyball at BBSS
DESCRIPTION:
URL:https://www.kpscouncil.com/event/junior-volleyball-at-bbss/
CATEGORIES:Programming
END:VEVENT
BEGIN:VEVENT
DTSTART;TZID=America/Winnipeg:20191118T180000
DTEND;TZID=America/Winnipeg:20191118T190000
DTSTAMP:20260421T120836
CREATED:20191106T150542Z
LAST-MODIFIED:20191106T150542Z
UID:457-1574100000-1574103600@www.kpscouncil.com
SUMMARY:Beavers 6-7PM
DESCRIPTION:
URL:https://www.kpscouncil.com/event/beavers-6-7pm-2/
CATEGORIES:Programming
END:VEVENT
BEGIN:VEVENT
DTSTART;TZID=America/Winnipeg:20191118T130000
DTEND;TZID=America/Winnipeg:20191118T180000
DTSTAMP:20260421T120836
CREATED:20191106T150633Z
LAST-MODIFIED:20191106T150633Z
UID:459-1574082000-1574100000@www.kpscouncil.com
SUMMARY:Flu Clinic 1-6PM
DESCRIPTION:
URL:https://www.kpscouncil.com/event/flu-clinic-1-6pm/
CATEGORIES:Events
END:VEVENT
BEGIN:VEVENT
DTSTART;VALUE=DATE:20191118
DTEND;VALUE=DATE:20191119
DTSTAMP:20260421T120836
CREATED:20191106T150700Z
LAST-MODIFIED:20191106T150700Z
UID:461-1574035200-1574121599@www.kpscouncil.com
SUMMARY:Pizza Day
DESCRIPTION:
URL:https://www.kpscouncil.com/event/pizza-day-4/
CATEGORIES:School Menu
END:VEVENT
BEGIN:VEVENT
DTSTART;VALUE=DATE:20191115
DTEND;VALUE=DATE:20191116
DTSTAMP:20260421T120836
CREATED:20191106T150338Z
LAST-MODIFIED:20191106T150338Z
UID:455-1573776000-1573862399@www.kpscouncil.com
SUMMARY:Subway
DESCRIPTION:
URL:https://www.kpscouncil.com/event/subway-2/
CATEGORIES:School Menu
END:VEVENT
BEGIN:VEVENT
DTSTART;VALUE=DATE:20191115
DTEND;VALUE=DATE:20191116
DTSTAMP:20260421T120836
CREATED:20191106T150255Z
LAST-MODIFIED:20191106T150255Z
UID:453-1573776000-1573862399@www.kpscouncil.com
SUMMARY:Frosted Food Orders Due
DESCRIPTION:
URL:https://www.kpscouncil.com/event/frosted-food-orders-due/
CATEGORIES:Notification
END:VEVENT
BEGIN:VEVENT
DTSTART;VALUE=DATE:20191115
DTEND;VALUE=DATE:20191116
DTSTAMP:20260421T120836
CREATED:20191106T150213Z
LAST-MODIFIED:20191106T150213Z
UID:451-1573776000-1573862399@www.kpscouncil.com
SUMMARY:PJ & Popcorn Day $2
DESCRIPTION:
URL:https://www.kpscouncil.com/event/pj-popcorn-day-2/
CATEGORIES:Events
END:VEVENT
BEGIN:VEVENT
DTSTART;TZID=America/Winnipeg:20191114T153000
DTEND;TZID=America/Winnipeg:20191114T170000
DTSTAMP:20260421T120836
CREATED:20191106T150135Z
LAST-MODIFIED:20191106T150135Z
UID:449-1573745400-1573750800@www.kpscouncil.com
SUMMARY:Cub Scouts 3:30-5:00PM
DESCRIPTION:
URL:https://www.kpscouncil.com/event/cub-scouts-330-500pm-2/
CATEGORIES:Programming
END:VEVENT
END:VCALENDAR